BEGIN:VCALENDAR
VERSION:2.0
PRODID:-//ChamberMaster//Event Calendar 2.0//EN
METHOD:PUBLISH
X-PUBLISHED-TTL:P3D
REFRESH-INTERVAL:P3D
CALSCALE:GREGORIAN
BEGIN:VEVENT
DTSTART:20111006T223000Z
DTEND:20111006T223000Z
X-MICROSOFT-CDO-ALLDAYEVENT:FALSE
SUMMARY:Rotary Club of Harlingen Community Mixer
DESCRIPTION:The Rotary Club of Harlingen will be holding October's Business After Hours Mixer at the Chamber. Please join us for this great networking opportunity! Appetizers and wine will be served.
X-ALT-DESC;FMTTYPE=text/html:The Rotary Club of Harlingen will be holding October's Business After Hours Mixer at the Chamber. Please join us for this great networking opportunity! Appetizers and wine will be served.  \n\n
LOCATION:
UID:e.1828.3169
SEQUENCE:3
DTSTAMP:20260421T034602Z
URL:https://business.harlingen.com/events/details/rotary-club-of-harlingen-community-mixer-10-06-2011-3169
END:VEVENT

END:VCALENDAR
