BEGIN:VCALENDAR
VERSION:2.0
PRODID:-//ChamberMaster//Event Calendar 2.0//EN
METHOD:PUBLISH
X-PUBLISHED-TTL:P3D
REFRESH-INTERVAL:P3D
CALSCALE:GREGORIAN
BEGIN:VEVENT
DTSTART;VALUE=DATE:20121020
DTEND;VALUE=DATE:20121021
TRANSP:TRANSPARENT
X-MICROSOFT-CDO-ALLDAYEVENT:TRUE
SUMMARY:Rotary Club of Harlingen Golf Tournament
DESCRIPTION:Annual Rotary Club of Harlingen Golf Tournament "Texas Style Nebraska Scramble" \n\nCheck In: 8:am\nTee Tiem: 9:am\nEntry Fee: $100. per person\n3 person scramble includes green fees\, cart & lunch\n\nGolfers must be regisitered by October 19\, 2012. This event is supported and maintained by Rotary Club of Harlingen to raise monies in support of the community. \n\nFor more information please call\, Lt. Col. Robert Grider at 956-793-8952 or 956-421-9230.
X-ALT-DESC;FMTTYPE=text/html:Annual Rotary Club of Harlingen Golf Tournament "Texas Style Nebraska Scramble" \n\nCheck In: 8:am\nTee Tiem: 9:am\nEntry Fee: $100. per person\n3 person scramble includes green fees\, cart & lunch\n\nGolfers must be regisitered by October 19\, 2012. This event is supported and maintained by Rotary Club of Harlingen to raise monies in support of the community. \n\nFor more information please call\, Lt. Col. Robert Grider at 956-793-8952 or 956-421-9230. \n
LOCATION:
UID:e.1828.3952
SEQUENCE:3
DTSTAMP:20260420T102647Z
URL:https://business.harlingen.com/events/details/rotary-club-of-harlingen-golf-tournament-10-20-2012-3952
END:VEVENT

END:VCALENDAR
