BEGIN:VCALENDAR
VERSION:2.0
PRODID:-//ChamberMaster//Event Calendar 2.0//EN
METHOD:PUBLISH
X-PUBLISHED-TTL:P3D
REFRESH-INTERVAL:P3D
CALSCALE:GREGORIAN
BEGIN:VEVENT
DTSTART;VALUE=DATE:20091016
DTEND;VALUE=DATE:20091018
TRANSP:TRANSPARENT
X-MICROSOFT-CDO-ALLDAYEVENT:TRUE
SUMMARY:Sabor del Campo
DESCRIPTION:To kick off Sabor del Campo on Friday\, October 16\, 2009\, savor morning tours of local Mexican sweet bread bakeries better known as ''Panaderias''. The tours will include information on the history and cultural background of these bakeries and focus on recipes with possible hands-on baking classes. Farm tours will also be an option. Cost and time pending. The Friday evening event will feature the Mexican state of Coahuila\; home of the oldest winery in Mexico. They will showcase  wines\, food and music of the region\, and display traditional rebozos (shawls) crafted in Saltillo\, Mexico. The event will be from 5:00 to 9:00 pm. Place and cost pending. ***** On Saturday\, October 17\, 2009 from mid-morning to 3:00 pm\, a fajita cook-off organized by Kori Marra's ReMax Lonestar team will take place to benefit the Children's Miracle Network. The event will be held on Jackson Street in downtown Harlingen. Cost pending. On Saturday evening from 4:00 to 8:00 pm The Harlingen Arts & Heritage Museum will host a Texas Wine\nTasting and Deep in the Art of Texas event. Admission $10.00 per person. Wines from several Texas wineries and regions will be featured along with an array of cheese and fruit. Meet area artists and enjoy an opportunity to view and/or purchase their works of art. For more information on Sabor del Campo\, please contact the Harlingen CVB at 956-423-5440. Details subject to change. Please check back for updates.
X-ALT-DESC;FMTTYPE=text/html:To kick off Sabor del Campo on Friday\, October 16\, 2009\, savor morning tours of local Mexican sweet bread bakeries better known as ''Panaderias''. The tours will include information on the history and cultural background of these bakeries and focus on recipes with possible hands-on baking classes. Farm tours will also be an option. Cost and time pending. The Friday evening event will feature the Mexican state of Coahuila\; home of the oldest winery in Mexico. They will showcase  wines\, food and music of the region\, and display traditional rebozos (shawls) crafted in Saltillo\, Mexico. The event will be from 5:00 to 9:00 pm. Place and cost pending. ***** On Saturday\, October 17\, 2009 from mid-morning to 3:00 pm\, a fajita cook-off organized by Kori Marra's ReMax Lonestar team will take place to benefit the Children's Miracle Network. The event will be held on Jackson Street in downtown Harlingen. Cost pending. On Saturday evening from 4:00 to 8:00 pm The Harlingen Arts & Heritage Museum will host a Texas Wine\nTasting and Deep in the Art of Texas event. Admission $10.00 per person. Wines from several Texas wineries and regions will be featured along with an array of cheese and fruit. Meet area artists and enjoy an opportunity to view and/or purchase their works of art. For more information on Sabor del Campo\, please contact the Harlingen CVB at 956-423-5440. Details subject to change. Please check back for updates.
LOCATION:Various Locations
UID:e.1828.1955
SEQUENCE:3
DTSTAMP:20260422T111547Z
URL:https://business.harlingen.com/events/details/sabor-del-campo-10-16-2009-1955
END:VEVENT

END:VCALENDAR
