BEGIN:VCALENDAR
VERSION:2.0
PRODID:-//ChamberMaster//Event Calendar 2.0//EN
METHOD:PUBLISH
X-PUBLISHED-TTL:P3D
REFRESH-INTERVAL:P3D
CALSCALE:GREGORIAN
BEGIN:VEVENT
DTSTART:20200305T013000Z
DTEND:20200305T033000Z
X-MICROSOFT-CDO-ALLDAYEVENT:FALSE
SUMMARY:Sail On: Beach Boys Tribute concert
DESCRIPTION:Enjoy an energetic and youthful tribute to "America's Band"! Sail On brings a young look and authentic sound reminiscent of the original Beach Boys during the prime of their career. The group's harmonies will transport you to the beach for an evening of memories and Fun\, Fun\, Fun! Members of Sail On are so good they even have performed with Brian Wilson's band. Presented by the nonprofit Harlingen Concert Association. For more info and to purchase tickets\, visit www.HarlingenConcert.com.
X-ALT-DESC;FMTTYPE=text/html:Enjoy an energetic and youthful tribute to &ldquo\;America&rsquo\;s Band&rdquo\;! Sail On brings a young look and authentic sound reminiscent of the original Beach Boys during the prime of their career. The group&rsquo\;s harmonies will transport you to the beach for an evening of memories and Fun\, Fun\, Fun! Members of Sail On are so good they even have performed with Brian Wilson&rsquo\;s band. Presented by the nonprofit Harlingen Concert Association. For more info and to purchase tickets\, visit www.HarlingenConcert.com.
LOCATION:Harlingen Municipal Auditorium\, 1204 Fair Park Blvd.
UID:e.1828.15196
SEQUENCE:3
DTSTAMP:20260422T181240Z
URL:https://business.harlingen.com/events/details/sail-on-beach-boys-tribute-concert-15196
END:VEVENT

END:VCALENDAR
