BEGIN:VCALENDAR
VERSION:2.0
PRODID:-//ChamberMaster//Event Calendar 2.0//EN
METHOD:PUBLISH
X-PUBLISHED-TTL:P3D
REFRESH-INTERVAL:P3D
CALSCALE:GREGORIAN
BEGIN:VEVENT
DTSTART:20100224T010000Z
DTEND:20100224T010000Z
X-MICROSOFT-CDO-ALLDAYEVENT:FALSE
SUMMARY:"Sailing on the Aegean Sea" Travelog
DESCRIPTION:On Tuesday\, February 23\, at 7:00 PM there will be a travelog "Sailing on the Aegean Sea" at the Golden Palms Texas Room. This 30 minute narrated documentary by Jane Hindsley explores the sights of Istanbul\, Ephesus\, the Greek islands of Mikenos\, Rhodes\, and Santorini as well as the Mycenae ruins and Athens\, Greece. Mrs. Hindsley will present the documentary as well as comment and answer questions about the voyage.
X-ALT-DESC;FMTTYPE=text/html:On Tuesday\, February 23\, at 7:00 PM there will be a travelog "Sailing on the Aegean Sea" at the Golden Palms Texas Room. This 30 minute narrated documentary by Jane Hindsley explores the sights of Istanbul\, Ephesus\, the Greek islands of Mikenos\, Rhodes\, and Santorini as well as the Mycenae ruins and Athens\, Greece. Mrs. Hindsley will present the documentary as well as comment and answer questions about the voyage.
LOCATION:In the Texas Room
UID:e.1828.2399
SEQUENCE:3
DTSTAMP:20260422T100118Z
URL:https://business.harlingen.com/events/details/sailing-on-the-aegean-sea-travelog-02-23-2010-2399
END:VEVENT

END:VCALENDAR
