BEGIN:VCALENDAR
VERSION:2.0
PRODID:-//ChamberMaster//Event Calendar 2.0//EN
METHOD:PUBLISH
X-PUBLISHED-TTL:P3D
REFRESH-INTERVAL:P3D
CALSCALE:GREGORIAN
BEGIN:VEVENT
DTSTART:20100123T140000Z
DTEND:20100123T193000Z
X-MICROSOFT-CDO-ALLDAYEVENT:FALSE
SUMMARY:Saint Joseph Academy Entrance Exam
DESCRIPTION:Saint Joseph Academy in Brownsville is currently accepting applications for 2010 -2011 school year.  The first scheduled entrance exam is scheduled for January 23\, 2010.  Please call for more information\, 542-3581 ext. 304.
X-ALT-DESC;FMTTYPE=text/html:Saint Joseph Academy in Brownsville is currently accepting applications for 2010 -2011 school year.  The first scheduled entrance exam is scheduled for January 23\, 2010.  Please call for more information\, 542-3581 ext. 304.
LOCATION:101 St. Joseph Dr. Brownsville\, Texas
UID:e.1828.2329
SEQUENCE:3
DTSTAMP:20260422T112003Z
URL:https://business.harlingen.com/events/details/saint-joseph-academy-entrance-exam-01-23-2010-2329
END:VEVENT

END:VCALENDAR
