BEGIN:VCALENDAR
VERSION:2.0
PRODID:-//ChamberMaster//Event Calendar 2.0//EN
METHOD:PUBLISH
X-PUBLISHED-TTL:P3D
REFRESH-INTERVAL:P3D
CALSCALE:GREGORIAN
BEGIN:VEVENT
DTSTART:20091107T010000Z
DTEND:20091107T050000Z
X-MICROSOFT-CDO-ALLDAYEVENT:FALSE
SUMMARY:Saint Joseph Academy Taste of the Town
DESCRIPTION:Join us at the Saint Joseph Academy Courtyard to enjoy the culinary creativity of over 15 local restaurants\, a top-notch selection of wine\, and the toe-tapping tunes of two live bands. For only $35 per person you will enjoy fine cuisine and wine while simultaneously feeding your soul through your philanthropy! Taste of the Town is a Saint Joseph Academy fundraiser organized by the SJA Athletic Boosters. Music by: Granger Smith and Bree Stevens For more information\, visit www.sja.us or call 956-542-3581 ext. 330.
X-ALT-DESC;FMTTYPE=text/html:Join us at the Saint Joseph Academy Courtyard to enjoy the culinary creativity of over 15 local restaurants\, a top-notch selection of wine\, and the toe-tapping tunes of two live bands. For only $35 per person you will enjoy fine cuisine and wine while simultaneously feeding your soul through your philanthropy! Taste of the Town is a Saint Joseph Academy fundraiser organized by the SJA Athletic Boosters. Music by: Granger Smith and Bree Stevens For more information\, visit www.sja.us or call 956-542-3581 ext. 330.\n
LOCATION:
UID:e.1828.2193
SEQUENCE:3
DTSTAMP:20260422T130419Z
URL:https://business.harlingen.com/events/details/saint-joseph-academy-taste-of-the-town-11-06-2009-2193
END:VEVENT

END:VCALENDAR
