BEGIN:VCALENDAR
VERSION:2.0
PRODID:-//ChamberMaster//Event Calendar 2.0//EN
METHOD:PUBLISH
X-PUBLISHED-TTL:P3D
REFRESH-INTERVAL:P3D
CALSCALE:GREGORIAN
BEGIN:VEVENT
DTSTART:20120327T223000Z
DTEND:20120327T223000Z
X-MICROSOFT-CDO-ALLDAYEVENT:FALSE
SUMMARY:Salazar Insurance Group Ribbon Cutting
DESCRIPTION:We welcome Salazar Insurance to the Chamber Family!
X-ALT-DESC;FMTTYPE=text/html:We welcome Salazar Insurance to the Chamber Family! \n  \n
LOCATION:
UID:e.1828.3483
SEQUENCE:3
DTSTAMP:20260420T182058Z
URL:https://business.harlingen.com/events/details/salazar-insurance-group-ribbon-cutting-03-27-2012-3483
END:VEVENT

END:VCALENDAR
