BEGIN:VCALENDAR
VERSION:2.0
PRODID:-//ChamberMaster//Event Calendar 2.0//EN
METHOD:PUBLISH
X-PUBLISHED-TTL:P3D
REFRESH-INTERVAL:P3D
CALSCALE:GREGORIAN
BEGIN:VEVENT
DTSTART;VALUE=DATE:20100820
DTEND;VALUE=DATE:20100823
TRANSP:TRANSPARENT
X-MICROSOFT-CDO-ALLDAYEVENT:TRUE
SUMMARY:Sales Tax Holiday
DESCRIPTION:Children will soon be heading back to school & the Sales Tax Holiday will help kids with tax free clothes\, shoes & school supplies.  From August 20 to 22 shoppers will pay no state or local sales tax on many school supplies\, backpacks & most children's & adults clothing and shoes priced less than $100.  A list of approved items can be found on the comptroller's website at www.window.state.tx.us/taxinfo/taxpubs/tx98_490/tx98_490.html.  Information should also be available soon in locals newspapers.
X-ALT-DESC;FMTTYPE=text/html:Children will soon be heading back to school & the Sales Tax Holiday will help kids with tax free clothes\, shoes & school supplies.  From August 20 to 22 shoppers will pay no state or local sales tax on many school supplies\, backpacks & most children's & adults clothing and shoes priced less than $100.  A list of approved items can be found on the comptroller's website at www.window.state.tx.us/taxinfo/taxpubs/tx98_490/tx98_490.html.  Information should also be available soon in locals newspapers.
LOCATION:
UID:e.1828.2649
SEQUENCE:3
DTSTAMP:20260422T001807Z
URL:https://business.harlingen.com/events/details/sales-tax-holiday-08-20-2010-2649
END:VEVENT

END:VCALENDAR
