BEGIN:VCALENDAR
VERSION:2.0
PRODID:-//ChamberMaster//Event Calendar 2.0//EN
METHOD:PUBLISH
X-PUBLISHED-TTL:P3D
REFRESH-INTERVAL:P3D
CALSCALE:GREGORIAN
BEGIN:VEVENT
DTSTART:20110920T223000Z
DTEND:20110920T223000Z
X-MICROSOFT-CDO-ALLDAYEVENT:FALSE
SUMMARY:Salinas\, Allen\, & Schmitt\, LLP Grand Opening & Ribbon Cutting
DESCRIPTION:Come celebrate the Grand Opening of Salinas\, Allen\, and Schmitt's new location. There will be a Ribbon Cutting ceremony followed with appetizers\, sodas\, and wine.
X-ALT-DESC;FMTTYPE=text/html:Come celebrate the Grand Opening of Salinas\, Allen\, and Schmitt's new location. There will be a Ribbon Cutting ceremony followed with appetizers\, sodas\, and wine.\n
LOCATION:
UID:e.1828.3166
SEQUENCE:3
DTSTAMP:20260421T035037Z
URL:https://business.harlingen.com/events/details/salinas-allen-schmitt-llp-grand-opening-ribbon-cutting-09-20-2011-3166
END:VEVENT

END:VCALENDAR
