BEGIN:VCALENDAR
VERSION:2.0
PRODID:-//ChamberMaster//Event Calendar 2.0//EN
METHOD:PUBLISH
X-PUBLISHED-TTL:P3D
REFRESH-INTERVAL:P3D
CALSCALE:GREGORIAN
BEGIN:VEVENT
DTSTART:20110514T130000Z
DTEND:20110514T210000Z
X-MICROSOFT-CDO-ALLDAYEVENT:FALSE
SUMMARY:Sam Hurd Rio Grande Valley Football Camp and Community Fair
DESCRIPTION:Sam Hurd of the Dallas Cowboys and friends invite you to participate in their community fair. We invite to support Youth Building For The Future and the Harlingen Boys and Girls Club.\nYour support will allow several less fortunate children the opportunity to participate in the football camp.\nChildren from the age of 5 to 18 will be able to go out on the football field with Sam Hurd and friends to learn some football skills from the pros. There will be many other activities as well\, Lots of fun for all !!!\n\nFor more information call:956-320-0530 or e-mail unionworldent@gmail.com
X-ALT-DESC;FMTTYPE=text/html:Sam Hurd of the Dallas Cowboys and friends invite you to participate in their community fair. We invite to support Youth Building For The Future and the Harlingen Boys and Girls Club.\nYour support will allow several less fortunate children the opportunity to participate in the football camp.\nChildren from the age of 5 to 18 will be able to go out on the football field with Sam Hurd and friends to learn some football skills from the pros. There will be many other activities as well\, Lots of fun for all !!!\n\nFor more information call:956-320-0530 or e-mail unionworldent@gmail.com
LOCATION:
UID:e.1828.3002
SEQUENCE:3
DTSTAMP:20260421T094822Z
URL:https://business.harlingen.com/events/details/sam-hurd-rio-grande-valley-football-camp-and-community-fair-05-14-2011-3002
END:VEVENT

END:VCALENDAR
