BEGIN:VCALENDAR
VERSION:2.0
PRODID:-//ChamberMaster//Event Calendar 2.0//EN
METHOD:PUBLISH
X-PUBLISHED-TTL:P3D
REFRESH-INTERVAL:P3D
CALSCALE:GREGORIAN
BEGIN:VEVENT
DTSTART:20111204T210000Z
DTEND:20111204T210000Z
X-MICROSOFT-CDO-ALLDAYEVENT:FALSE
SUMMARY:Santa's Arrival Kicks off Santa's Wonderland Event
DESCRIPTION:Santa's Arrival Kicks off Santa's Wonderland Event   \nThis year\, the magic comes to Harlingen with Santa's arrival\, Sunday\, December 4th at 3pm. FREE Photo with Santa and Craft Activities 7 Days a Week. Popular outdoor retailer\, Bass Pro Shops presents their fourth annual "Santa's Wonderland-A Classic Christmas"-an event that has already become a family Christmas tradition in other Bass Pro Shops stores. www.baspro.com/santa to read full information.
X-ALT-DESC;FMTTYPE=text/html:Santa's Arrival Kicks off Santa's Wonderland Event   \nThis year\, the magic comes to Harlingen with Santa's arrival\, Sunday\, December 4th at 3pm. FREE Photo with Santa and Craft Activities 7 Days a Week. Popular outdoor retailer\, Bass Pro Shops presents their fourth annual "Santa's Wonderland-A Classic Christmas"-an event that has already become a family Christmas tradition in other Bass Pro Shops stores. www.baspro.com/santa to read full information.\n
LOCATION:
UID:e.1828.3278
SEQUENCE:3
DTSTAMP:20260420T225624Z
URL:https://business.harlingen.com/events/details/santa-s-arrival-kicks-off-santa-s-wonderland-event-12-04-2011-3278
END:VEVENT

END:VCALENDAR
