BEGIN:VCALENDAR
VERSION:2.0
PRODID:-//ChamberMaster//Event Calendar 2.0//EN
METHOD:PUBLISH
X-PUBLISHED-TTL:P3D
REFRESH-INTERVAL:P3D
CALSCALE:GREGORIAN
BEGIN:VEVENT
DTSTART:20120728T150000Z
DTEND:20120728T190000Z
X-MICROSOFT-CDO-ALLDAYEVENT:FALSE
SUMMARY:Sarah Book Publishing Author's Book Fair
DESCRIPTION:Come meet the Sarah Book Publishing authors and attend their book reviews. Books will be available for purchase.  For more information\, please call Norma Castillo at (956) 956-793-1393.
X-ALT-DESC;FMTTYPE=text/html:Come meet the Sarah Book Publishing authors and attend their book reviews. Books will be available for purchase.  For more information\, please call Norma Castillo at (956) 956-793-1393.   \n
LOCATION:
UID:e.1828.3905
SEQUENCE:3
DTSTAMP:20260420T114509Z
URL:https://business.harlingen.com/events/details/sarah-book-publishing-author-s-book-fair-07-28-2012-3905
END:VEVENT

END:VCALENDAR
