BEGIN:VCALENDAR
VERSION:2.0
PRODID:-//ChamberMaster//Event Calendar 2.0//EN
METHOD:PUBLISH
X-PUBLISHED-TTL:P3D
REFRESH-INTERVAL:P3D
CALSCALE:GREGORIAN
BEGIN:VEVENT
DTSTART;VALUE=DATE:20100710
DTEND;VALUE=DATE:20100712
TRANSP:TRANSPARENT
X-MICROSOFT-CDO-ALLDAYEVENT:TRUE
SUMMARY:Saxet Gun Show
DESCRIPTION:Call today for your reservation at 361-289-2256.
X-ALT-DESC;FMTTYPE=text/html:Call today for your reservation at 361-289-2256.
LOCATION:Located next door to Whalen's Furniture
UID:e.1828.2540
SEQUENCE:3
DTSTAMP:20260422T015249Z
URL:https://business.harlingen.com/events/details/saxet-gun-show-07-10-2010-2540
END:VEVENT

END:VCALENDAR
