BEGIN:VCALENDAR
VERSION:2.0
PRODID:-//ChamberMaster//Event Calendar 2.0//EN
METHOD:PUBLISH
X-PUBLISHED-TTL:P3D
REFRESH-INTERVAL:P3D
CALSCALE:GREGORIAN
BEGIN:VEVENT
DTSTART:20120208T200000Z
DTEND:20120208T220000Z
X-MICROSOFT-CDO-ALLDAYEVENT:FALSE
SUMMARY:SBA 8(a) Certification
DESCRIPTION:1.  Are you an existing business seeking Government Contracts?\n2.  Have you been in business for two years?\n3.  Do you have a product or service you can sell to the Government?\n                      FIND OUT:\nWhat is an 8(a) Certification?\nWhat are the eligibility requirements?
X-ALT-DESC;FMTTYPE=text/html:1.  Are you an existing business seeking Government Contracts?\n2.  Have you been in business for two years?\n3.  Do you have a product or service you can sell to the Government?\n                      FIND OUT:\nWhat is an 8(a) Certification?\nWhat are the eligibility requirements?
LOCATION:Small Business Administration (Bank of America's Building)
UID:e.1828.3404
SEQUENCE:3
DTSTAMP:20260420T194402Z
URL:https://business.harlingen.com/events/details/sba-8-a-certification-02-08-2012-3404
END:VEVENT

END:VCALENDAR
