BEGIN:VCALENDAR
VERSION:2.0
PRODID:-//ChamberMaster//Event Calendar 2.0//EN
METHOD:PUBLISH
X-PUBLISHED-TTL:P3D
REFRESH-INTERVAL:P3D
CALSCALE:GREGORIAN
BEGIN:VEVENT
DTSTART:20110322T230000Z
DTEND:20110322T130000Z
X-MICROSOFT-CDO-ALLDAYEVENT:FALSE
SUMMARY:SBA 8(a) & HubZone Program
DESCRIPTION:Wheter you are just starting a small business or expanding to take advantage of federal contracting opportunities\, your business needs the right tools at the right time in order to succeed.Small businesses will learn a step-by-step approach for becoming a general contractor or sub-contractor participating on government contracts.
X-ALT-DESC;FMTTYPE=text/html:Wheter you are just starting a small business or expanding to take advantage of federal contracting opportunities\, your business needs the right tools at the right time in order to succeed.Small businesses will learn a step-by-step approach for becoming a general contractor or sub-contractor participating on government contracts.
LOCATION:Harlingen Public Library
UID:e.1828.3250
SEQUENCE:3
DTSTAMP:20260421T135329Z
URL:https://business.harlingen.com/events/details/sba-8-a-hubzone-program-03-22-2011-3250
END:VEVENT

END:VCALENDAR
