BEGIN:VCALENDAR
VERSION:2.0
PRODID:-//ChamberMaster//Event Calendar 2.0//EN
METHOD:PUBLISH
X-PUBLISHED-TTL:P3D
REFRESH-INTERVAL:P3D
CALSCALE:GREGORIAN
BEGIN:VEVENT
DTSTART:20111214T150000Z
DTEND:20111214T180000Z
X-MICROSOFT-CDO-ALLDAYEVENT:FALSE
SUMMARY:SBA 8(a) & HUBZone Program
DESCRIPTION:Whether you're just starting a small business or expanding to take advantage of federal contracting opportunities\, your business needs the right tools at the right time in order to succeed. The SBA will be conducting a free suminar for small businesses explaining SBA procurement and certification programs including the 8(a) & HUBZone program. Seating is limited. Please call today to (956) 427-8533\, ext. 228\, for reservations.
X-ALT-DESC;FMTTYPE=text/html:Whether you're just starting a small business or expanding to take advantage of federal contracting opportunities\, your business needs the right tools at the right time in order to succeed. The SBA will be conducting a free suminar for small businesses explaining SBA procurement and certification programs including the 8(a) & HUBZone program. Seating is limited. Please call today to (956) 427-8533\, ext. 228\, for reservations. \n
LOCATION:
UID:e.1828.3290
SEQUENCE:3
DTSTAMP:20260420T225044Z
URL:https://business.harlingen.com/events/details/sba-8-a-hubzone-program-12-14-2011-3290
END:VEVENT

END:VCALENDAR
