BEGIN:VCALENDAR
VERSION:2.0
PRODID:-//ChamberMaster//Event Calendar 2.0//EN
METHOD:PUBLISH
X-PUBLISHED-TTL:P3D
REFRESH-INTERVAL:P3D
CALSCALE:GREGORIAN
BEGIN:VEVENT
DTSTART:20121109T150000Z
DTEND:20121109T170000Z
X-MICROSOFT-CDO-ALLDAYEVENT:FALSE
SUMMARY:SBA Free Informational Workshop: Fair Labor Standards Act
DESCRIPTION:Attention:  Small Business Owners.  Are you aware of your employees' rights?  The U.S. Small Business Administration in cooperation with the U.S. Department of Labor Wage and Hour Division invite you to attend this informational workshop.  Learn about Minimum wage\, overtime\, record keeping\, child labor provisions and more!  For reservations or for more information\, please call Veronica Padilla at (956) 427-8533 ext. 233.
X-ALT-DESC;FMTTYPE=text/html:Attention:  Small Business Owners.  Are you aware of your employees' rights?  The U.S. Small Business Administration in cooperation with the U.S. Department of Labor Wage and Hour Division invite you to attend this informational workshop.  Learn about Minimum wage\, overtime\, record keeping\, child labor provisions and more!  For reservations or for more information\, please call Veronica Padilla at (956) 427-8533 ext. 233.\n
LOCATION:
UID:e.1828.4123
SEQUENCE:3
DTSTAMP:20260420T084336Z
URL:https://business.harlingen.com/events/details/sba-free-informational-workshop-fair-labor-standards-act-11-09-2012-4123
END:VEVENT

END:VCALENDAR
