BEGIN:VCALENDAR
VERSION:2.0
PRODID:-//ChamberMaster//Event Calendar 2.0//EN
METHOD:PUBLISH
X-PUBLISHED-TTL:P3D
REFRESH-INTERVAL:P3D
CALSCALE:GREGORIAN
BEGIN:VEVENT
DTSTART:20121030T230000Z
DTEND:20121031T010000Z
X-MICROSOFT-CDO-ALLDAYEVENT:FALSE
SUMMARY:SBA FREE Seminar: Business Startup and Financing Options
DESCRIPTION:Thinking of starting a business but don't know where to start?  Do you want to expand your business or need working capital?  Are there other programs available to assist me?  If you'd like to know the answers to these questions\, this seminar is for you.  For reservations or for more information please call:  Edna Leal at (956) 216-5822 or Veronica Padilla at (956) 427-8533 ext. 233.
X-ALT-DESC;FMTTYPE=text/html:Thinking of starting a business but don't know where to start?  Do you want to expand your business or need working capital?  Are there other programs available to assist me?  If you'd like to know the answers to these questions\, this seminar is for you.  For reservations or for more information please call:  Edna Leal at (956) 216-5822 or Veronica Padilla at (956) 427-8533 ext. 233.  \n
LOCATION:
UID:e.1828.4121
SEQUENCE:3
DTSTAMP:20260420T085933Z
URL:https://business.harlingen.com/events/details/sba-free-seminar-business-startup-and-financing-options-10-30-2012-4121
END:VEVENT

END:VCALENDAR
