BEGIN:VCALENDAR
VERSION:2.0
PRODID:-//ChamberMaster//Event Calendar 2.0//EN
METHOD:PUBLISH
X-PUBLISHED-TTL:P3D
REFRESH-INTERVAL:P3D
CALSCALE:GREGORIAN
BEGIN:VEVENT
DTSTART:20121101T140000Z
DTEND:20121101T160000Z
X-MICROSOFT-CDO-ALLDAYEVENT:FALSE
SUMMARY:SBA FREE Seminar on SBA8(a)BD Program/BDMIS
DESCRIPTION:Whether you're expanding to take advantage of federal contracting opportunities\, your business needs the right tools at the right time in order to succeed.  To learn more about programs that might be right for you\, the SBA will be conducting a free seminar for small businesses explaining SBA procurement and certification program known as the 8(a)BD program.  Small businesses will learn a step-by-step approach for becoming a general contractor or sub-contractor participating in government contracts.  Seating is limited.  We ask that no more than two representatives from each company attend.  Please call today to (956) 427-8533 ext. 228 for reservations.
X-ALT-DESC;FMTTYPE=text/html:Whether you're expanding to take advantage of federal contracting opportunities\, your business needs the right tools at the right time in order to succeed.  To learn more about programs that might be right for you\, the SBA will be conducting a free seminar for small businesses explaining SBA procurement and certification program known as the 8(a)BD program.  Small businesses will learn a step-by-step approach for becoming a general contractor or sub-contractor participating in government contracts.  Seating is limited.  We ask that no more than two representatives from each company attend.  Please call today to (956) 427-8533 ext. 228 for reservations.\n
LOCATION:
UID:e.1828.4114
SEQUENCE:3
DTSTAMP:20260420T085214Z
URL:https://business.harlingen.com/events/details/sba-free-seminar-on-sba8-a-bd-program-bdmis-11-01-2012-4114
END:VEVENT

END:VCALENDAR
