BEGIN:VCALENDAR
VERSION:2.0
PRODID:-//ChamberMaster//Event Calendar 2.0//EN
METHOD:PUBLISH
X-PUBLISHED-TTL:P3D
REFRESH-INTERVAL:P3D
CALSCALE:GREGORIAN
BEGIN:VEVENT
DTSTART:20110429T140000Z
DTEND:20110429T153000Z
X-MICROSOFT-CDO-ALLDAYEVENT:FALSE
SUMMARY:SBA's Friday Informational Workshop
DESCRIPTION:The U.S. Small Business Administration (SBA) conducts free informational workshops Fridays for startup or existing small businesses. Come learn about SBA loan eligibility\, current popular SBA loans\, and how you can receive free technical assistance from SCORE\, SBDC and out other resource partners.
X-ALT-DESC;FMTTYPE=text/html:The U.S. Small Business Administration (SBA) conducts free informational workshops Fridays for startup or existing small businesses. Come learn about SBA loan eligibility\, current popular SBA loans\, and how you can receive free technical assistance from SCORE\, SBDC and out other resource partners.\n
LOCATION:222 East Van Buren St.\, Ste. 500 Harlingen\, TX 78550
UID:e.1828.3266
SEQUENCE:3
DTSTAMP:20260421T110847Z
URL:https://business.harlingen.com/events/details/sba-s-friday-informational-workshop-04-29-2011-3266
END:VEVENT

END:VCALENDAR
