BEGIN:VCALENDAR
VERSION:2.0
PRODID:-//ChamberMaster//Event Calendar 2.0//EN
METHOD:PUBLISH
X-PUBLISHED-TTL:P3D
REFRESH-INTERVAL:P3D
CALSCALE:GREGORIAN
BEGIN:VEVENT
DTSTART:20111220T150000Z
DTEND:20111220T174500Z
X-MICROSOFT-CDO-ALLDAYEVENT:FALSE
SUMMARY:SBA Surety Bond Guarantee Program
DESCRIPTION:SBA will be conducting  a free seminar for small business contractors interested in acquiring SBA surety guarantee bid\, payment and performance bonds. Please join us to learn a step-by-step approach on increasing your contacting opportunities from one of SBA's certified Surety Company\, Jim Swindle of Alamo Surety Bond Company. Learn the nuts & bolts on what it takes to become a more competitive small business contractor by being bonded especially through the SBA Surety Bonding Guarantee program. Seating is limited. Please call today to (956) 427-8533\, ext. 228\, for reservations.
X-ALT-DESC;FMTTYPE=text/html:SBA will be conducting  a free seminar for small business contractors interested in acquiring SBA surety guarantee bid\, payment and performance bonds. Please join us to learn a step-by-step approach on increasing your contacting opportunities from one of SBA's certified Surety Company\, Jim Swindle of Alamo Surety Bond Company. Learn the nuts & bolts on what it takes to become a more competitive small business contractor by being bonded especially through the SBA Surety Bonding Guarantee program. Seating is limited. Please call today to (956) 427-8533\, ext. 228\, for reservations. \n
LOCATION:
UID:e.1828.3293
SEQUENCE:3
DTSTAMP:20260420T225044Z
URL:https://business.harlingen.com/events/details/sba-surety-bond-guarantee-program-12-20-2011-3293
END:VEVENT

END:VCALENDAR
