BEGIN:VCALENDAR
VERSION:2.0
PRODID:-//ChamberMaster//Event Calendar 2.0//EN
METHOD:PUBLISH
X-PUBLISHED-TTL:P3D
REFRESH-INTERVAL:P3D
CALSCALE:GREGORIAN
BEGIN:VEVENT
DTSTART:20120314T140000Z
DTEND:20120314T160000Z
X-MICROSOFT-CDO-ALLDAYEVENT:FALSE
SUMMARY:SBA Women-Owned Small Business Certification
DESCRIPTION:Whether you're just starting a small business or expanding to take advantage of federal contracting opportunities\, your business needs the right tools at the right time in order to succeed. To learn more about programs that might be right  for you. The SBA will be conducting a free seminar for women-owned small businesses wanting to get certified as an SBA (WOSB) Women-Owned Small Business. This seminar will provide information on how to get certified in order to participate in federal government contracting. Women-owned small businesses will learn a step-by step approach for becoming a general contractor or sub-contractor participating on federal government contracts. Don't mis out on this great opportunity! Call us to confirm your seat today!
X-ALT-DESC;FMTTYPE=text/html:Whether you're just starting a small business or expanding to take advantage of federal contracting opportunities\, your business needs the right tools at the right time in order to succeed. To learn more about programs that might be right  for you. The SBA will be conducting a free seminar for women-owned small businesses wanting to get certified as an SBA (WOSB) Women-Owned Small Business. This seminar will provide information on how to get certified in order to participate in federal government contracting. Women-owned small businesses will learn a step-by step approach for becoming a general contractor or sub-contractor participating on federal government contracts. Don't mis out on this great opportunity! Call us to confirm your seat today!
LOCATION:
UID:e.1828.3577
SEQUENCE:3
DTSTAMP:20260420T181846Z
URL:https://business.harlingen.com/events/details/sba-women-owned-small-business-certification-03-14-2012-3577
END:VEVENT

END:VCALENDAR
