BEGIN:VCALENDAR
VERSION:2.0
PRODID:-//ChamberMaster//Event Calendar 2.0//EN
METHOD:PUBLISH
X-PUBLISHED-TTL:P3D
REFRESH-INTERVAL:P3D
CALSCALE:GREGORIAN
BEGIN:VEVENT
DTSTART:20111219T150000Z
DTEND:20111219T180000Z
X-MICROSOFT-CDO-ALLDAYEVENT:FALSE
SUMMARY:SBA Women-Owned Small Business Certification
DESCRIPTION:The SBA will be conducting a free seminar for Women-Owned Small Businesses wanting to get certified in order to participate in federal government contracting. Women-Owned small businesses will learn a step-by-step approach for becoming a general contractor or sub-contractor participating on federal government. Don't miss out on this great opportunity! No fees required. Seating is limited. Please call today to (956) 427-8533\, ext. 228\, for reservations.
X-ALT-DESC;FMTTYPE=text/html:The SBA will be conducting a free seminar for Women-Owned Small Businesses wanting to get certified in order to participate in federal government contracting. Women-Owned small businesses will learn a step-by-step approach for becoming a general contractor or sub-contractor participating on federal government. Don't miss out on this great opportunity! No fees required. Seating is limited. Please call today to (956) 427-8533\, ext. 228\, for reservations. \n
LOCATION:
UID:e.1828.3292
SEQUENCE:3
DTSTAMP:20260420T225420Z
URL:https://business.harlingen.com/events/details/sba-women-owned-small-business-certification-12-19-2011-3292
END:VEVENT

END:VCALENDAR
