BEGIN:VCALENDAR
VERSION:2.0
PRODID:-//ChamberMaster//Event Calendar 2.0//EN
METHOD:PUBLISH
X-PUBLISHED-TTL:P3D
REFRESH-INTERVAL:P3D
CALSCALE:GREGORIAN
BEGIN:VEVENT
DTSTART;VALUE=DATE:20120522
DTEND;VALUE=DATE:20120523
TRANSP:TRANSPARENT
X-MICROSOFT-CDO-ALLDAYEVENT:TRUE
SUMMARY:Scavenger Hunt: "History is in the Details"
DESCRIPTION:Celebrate National Preservation Month (May) by participating in a Scavenger Hunt in Downtown Harlingen!  The event involves identifying architectural details on the exterior of buildings.  A page showing nine details is available at Downtown Harlingen businesses\, the Downtown Harlingen office\, and online at www.downtownharlingen.com.  Entrants must find and write down the address of the building where each detail appears and submit the page by May 31 to be eligible for a prize drawing on June 7th.  For more information\, call the Harlingen Downtown office\, 216-4910.
X-ALT-DESC;FMTTYPE=text/html:Celebrate National Preservation Month (May) by participating in a Scavenger Hunt in Downtown Harlingen!  The event involves identifying architectural details on the exterior of buildings.  A page showing nine details is available at Downtown Harlingen businesses\, the Downtown Harlingen office\, and online at www.downtownharlingen.com.  Entrants must find and write down the address of the building where each detail appears and submit the page by May 31 to be eligible for a prize drawing on June 7th.  For more information\, call the Harlingen Downtown office\, 216-4910.\n
LOCATION:
UID:e.1828.3668
SEQUENCE:3
DTSTAMP:20260420T150643Z
URL:https://business.harlingen.com/events/details/scavenger-hunt-history-is-in-the-details-05-22-2012-3668
END:VEVENT

END:VCALENDAR
