BEGIN:VCALENDAR
VERSION:2.0
PRODID:-//ChamberMaster//Event Calendar 2.0//EN
METHOD:PUBLISH
X-PUBLISHED-TTL:P3D
REFRESH-INTERVAL:P3D
CALSCALE:GREGORIAN
BEGIN:VEVENT
DTSTART:20110903T230000Z
DTEND:20110903T230000Z
X-MICROSOFT-CDO-ALLDAYEVENT:FALSE
SUMMARY:Sea Turtle\, Inc. Annual Celebration
DESCRIPTION:Sea Turtle Annual Celebration\, Silent & Live Auctions.\n"Artist in Residence" Beth Fedigan $40.00 per person.\n\nPlease purchase you tickets at: Coastal Winds\, Paragraphs\, PI Chamber\, SPI Chamber\, SPI Visitor Center or Sea Turtle\, Inc. \n\nSpecial Thanks to Pat Chapin for donating his mermaid artwork\, and to the South Padre Office Center for adding the nightime stars.
X-ALT-DESC;FMTTYPE=text/html:Sea Turtle Annual Celebration\, Silent & Live Auctions.\n"Artist in Residence" Beth Fedigan $40.00 per person.\n\nPlease purchase you tickets at: Coastal Winds\, Paragraphs\, PI Chamber\, SPI Chamber\, SPI Visitor Center or Sea Turtle\, Inc. \n\nSpecial Thanks to Pat Chapin for donating his mermaid artwork\, and to the South Padre Office Center for adding the nightime stars. 
LOCATION:
UID:e.1828.3137
SEQUENCE:3
DTSTAMP:20260421T034718Z
URL:https://business.harlingen.com/events/details/sea-turtle-inc-annual-celebration-09-03-2011-3137
END:VEVENT

END:VCALENDAR
