BEGIN:VCALENDAR
VERSION:2.0
PRODID:-//ChamberMaster//Event Calendar 2.0//EN
METHOD:PUBLISH
X-PUBLISHED-TTL:P3D
REFRESH-INTERVAL:P3D
CALSCALE:GREGORIAN
BEGIN:VEVENT
DTSTART:20090930T070000Z
DTEND:20090930T070000Z
X-MICROSOFT-CDO-ALLDAYEVENT:FALSE
SUMMARY:Seminar - ''7 Keys to Marketing Success''
DESCRIPTION:The Harlingen Area Chamber of Commerce invites all small business owners to a free seminar on marketing.  The workshop\, presented in partnership with the UTPA Small Business Development Center\, will help business owners on identify customers\, selling\, and how to developing a marketing plan.  \n\nThe ''7 Keys to Marketing Success'' will be held at the Chamber\, 311 E Tyler in Harlingen\, on September 30 from 2 pm to 4 pm.  Attendees will learn how to answer questions about potential customers and how to reach these customers using the right message.  \n\n''Small business owners really need to understand who their potential customers are and where to find them before they start spending money on trying to attract them. A great amount of marketing and advertising efforts is misspent because they are directed at individuals who are not potential customers.  Advertising and marketing\, while essential\, is too expensive to squander.'' said Oscar Garcia\, workshop presenter.\n\nPre-registration is required. To sign up for this free seminar or for further information\, please call the Chamber at (956) 423-5440.   \n\nThe University of Texas—Pan American SBDC seeks to promote economic growth and business development in the Rio Grande Valley. They do so by offering one-on-one counseling services\, assisting in business plan development\, and offering business workshops on a variety of business topics. Besides these recurring seminars\, SBDC also offers workshops on special topics as requested by clients.
X-ALT-DESC;FMTTYPE=text/html:The Harlingen Area Chamber of Commerce invites all small business owners to a free seminar on marketing.  The workshop\, presented in partnership with the UTPA Small Business Development Center\, will help business owners on identify customers\, selling\, and how to developing a marketing plan.  \n\nThe ''7 Keys to Marketing Success'' will be held at the Chamber\, 311 E Tyler in Harlingen\, on September 30 from 2 pm to 4 pm.  Attendees will learn how to answer questions about potential customers and how to reach these customers using the right message.  \n\n''Small business owners really need to understand who their potential customers are and where to find them before they start spending money on trying to attract them. A great amount of marketing and advertising efforts is misspent because they are directed at individuals who are not potential customers.  Advertising and marketing\, while essential\, is too expensive to squander.'' said Oscar Garcia\, workshop presenter.\n\nPre-registration is required. To sign up for this free seminar or for further information\, please call the Chamber at (956) 423-5440.   \n\nThe University of Texas—Pan American SBDC seeks to promote economic growth and business development in the Rio Grande Valley. They do so by offering one-on-one counseling services\, assisting in business plan development\, and offering business workshops on a variety of business topics. Besides these recurring seminars\, SBDC also offers workshops on special topics as requested by clients.   \n
LOCATION:Harlingen Area Chamber Office
UID:e.1828.1904
SEQUENCE:3
DTSTAMP:20260422T112100Z
URL:https://business.harlingen.com/events/details/seminar-7-keys-to-marketing-success-09-30-2009-1904
END:VEVENT

END:VCALENDAR
