BEGIN:VCALENDAR
VERSION:2.0
PRODID:-//ChamberMaster//Event Calendar 2.0//EN
METHOD:PUBLISH
X-PUBLISHED-TTL:P3D
REFRESH-INTERVAL:P3D
CALSCALE:GREGORIAN
BEGIN:VEVENT
DTSTART:20101211T164500Z
DTEND:20101211T164500Z
X-MICROSOFT-CDO-ALLDAYEVENT:FALSE
SUMMARY:Senator Eddie Lucio\, Jr.
DESCRIPTION:Join the Boys & Girls Club of Harlingen as they honor Senator Eddie Lucio\, Jr. "A Great Texas".  In recognition\nof his outstanding contributions to the youth of Texas and Boys & Girls Clubs.
X-ALT-DESC;FMTTYPE=text/html:Join the Boys & Girls Club of Harlingen as they honor Senator Eddie Lucio\, Jr. "A Great Texas".  In recognition\nof his outstanding contributions to the youth of Texas and Boys & Girls Clubs. \n
LOCATION:
UID:e.1828.2870
SEQUENCE:3
DTSTAMP:20260421T171416Z
URL:https://business.harlingen.com/events/details/senator-eddie-lucio-jr-12-11-2010-2870
END:VEVENT

END:VCALENDAR
