BEGIN:VCALENDAR
VERSION:2.0
PRODID:-//ChamberMaster//Event Calendar 2.0//EN
METHOD:PUBLISH
X-PUBLISHED-TTL:P3D
REFRESH-INTERVAL:P3D
CALSCALE:GREGORIAN
BEGIN:VEVENT
DTSTART:20101020T133000Z
DTEND:20101020T180000Z
X-MICROSOFT-CDO-ALLDAYEVENT:FALSE
SUMMARY:Senior Expo
DESCRIPTION:The Senior Expo will be held on October 20th from 8:30 am to 1:00 pm at the TSTC Cultural Arts Center on Loop 499.  The expo was designed to introduce Senior Citizens to "senior friendly" businesses\, organizations and activities in the Valley. There will be demonstrations\, seminars and activities including information on nutrition\, housing\, safety\, pharmaceuticals\, finances\, social security\, retirement\, volunteer opportunities\, hobbies\, health\, leisure activities\, insurance\, fitness\, arts and much more!  For more information\, please call 956-430-6237.
X-ALT-DESC;FMTTYPE=text/html:The Senior Expo will be held on October 20th from 8:30 am to 1:00 pm at the TSTC Cultural Arts Center on Loop 499.  The expo was designed to introduce Senior Citizens to "senior friendly" businesses\, organizations and activities in the Valley. There will be demonstrations\, seminars and activities including information on nutrition\, housing\, safety\, pharmaceuticals\, finances\, social security\, retirement\, volunteer opportunities\, hobbies\, health\, leisure activities\, insurance\, fitness\, arts and much more!  For more information\, please call 956-430-6237.\n
LOCATION:
UID:e.1828.2672
SEQUENCE:3
DTSTAMP:20260421T203305Z
URL:https://business.harlingen.com/events/details/senior-expo-10-20-2010-2672
END:VEVENT

END:VCALENDAR
