BEGIN:VCALENDAR
VERSION:2.0
PRODID:-//ChamberMaster//Event Calendar 2.0//EN
METHOD:PUBLISH
X-PUBLISHED-TTL:P3D
REFRESH-INTERVAL:P3D
CALSCALE:GREGORIAN
BEGIN:VEVENT
DTSTART:20110508T000000Z
DTEND:20110508T000000Z
X-MICROSOFT-CDO-ALLDAYEVENT:FALSE
SUMMARY:Senorita Cinco de Mayo 2011 Mariachi de Emilio Santos 7 Leguas
DESCRIPTION:Gloria G. Canales Mexican Folklore School of Dance\, Senorita Cinco de Mayo 2011. \nSenorita Talento\, Ashley Uribe\nMiss Congeniality\, Kayla Denee Cortez\nSenorita 5 De Mayo\, Mallely Aylin Garcia \nGuest of Honor\,  The beautiful voice of Marlissa Vela\nEntertainment Mariachi de Emilio Santos 7 Leguas
X-ALT-DESC;FMTTYPE=text/html:Gloria G. Canales Mexican Folklore School of Dance\, Senorita Cinco de Mayo 2011. \nSenorita Talento\, Ashley Uribe\nMiss Congeniality\, Kayla Denee Cortez\nSenorita 5 De Mayo\, Mallely Aylin Garcia \nGuest of Honor\,  The beautiful voice of Marlissa Vela\nEntertainment Mariachi de Emilio Santos 7 Leguas
LOCATION:
UID:e.1828.3032
SEQUENCE:3
DTSTAMP:20260421T112357Z
URL:https://business.harlingen.com/events/details/senorita-cinco-de-mayo-2011-mariachi-de-emilio-santos-7-leguas-05-07-2011-3032
END:VEVENT

END:VCALENDAR
