BEGIN:VCALENDAR
VERSION:2.0
PRODID:-//ChamberMaster//Event Calendar 2.0//EN
METHOD:PUBLISH
X-PUBLISHED-TTL:P3D
REFRESH-INTERVAL:P3D
CALSCALE:GREGORIAN
BEGIN:VEVENT
DTSTART:20120506T000000Z
DTEND:20120506T000000Z
X-MICROSOFT-CDO-ALLDAYEVENT:FALSE
SUMMARY:Senorita Cinco de Mayo 2012
DESCRIPTION:Gloria G. Canales Mexican Folklore School of Dance celebrates Senorita Cinco de Mayo 2012. Entertainment Mariachi 7 Leguas de Emilio Santos and Gloria G. Canales Folkloric Dancers. Tickets available call Gloria G. Canales at 423-0401.
X-ALT-DESC;FMTTYPE=text/html:Gloria G. Canales Mexican Folklore School of Dance celebrates Senorita Cinco de Mayo 2012. Entertainment Mariachi 7 Leguas de Emilio Santos and Gloria G. Canales Folkloric Dancers. Tickets available call Gloria G. Canales at 423-0401. 
LOCATION:
UID:e.1828.3611
SEQUENCE:3
DTSTAMP:20260420T145759Z
URL:https://business.harlingen.com/events/details/senorita-cinco-de-mayo-2012-05-05-2012-3611
END:VEVENT

END:VCALENDAR
