BEGIN:VCALENDAR
VERSION:2.0
PRODID:-//ChamberMaster//Event Calendar 2.0//EN
METHOD:PUBLISH
X-PUBLISHED-TTL:P3D
REFRESH-INTERVAL:P3D
CALSCALE:GREGORIAN
BEGIN:VEVENT
DTSTART:20100502T000000Z
DTEND:20100502T000000Z
X-MICROSOFT-CDO-ALLDAYEVENT:FALSE
SUMMARY:Senorita Cinco de Mayo Pageant
DESCRIPTION:Witness the results of hard work put in by a group of beautiful young ladies to learn leadership\, responsibility\, poise\, Mexican Culture and the intricate steps of folkloric dancing at the Senorita Cinco de Mayo Beauty Pageant. Senorita Cinco de Mayo allows young ladies to be a part of a honorable date in Mexican History and in the Hispanic Community of the Rio Grande Valley.Gloria G. Canales trains the girls for weeks up to this final competition to be crowned as Senorita Cinco de Mayo. Masters of Ceremonies of the event will be Lety Valadez Garza with Channel 5-KRGV\, Marcos Valdez from Univision and PeeWee Salinas- Chosen as Top 50 Most Beautiful People by Latin People Magazine. Tickets available at the Harlingen Area Chamber of Commerce located at 311 East Tyler.
X-ALT-DESC;FMTTYPE=text/html:Witness the results of hard work put in by a group of beautiful young ladies to learn leadership\, responsibility\, poise\, Mexican Culture and the intricate steps of folkloric dancing at the Senorita Cinco de Mayo Beauty Pageant. Senorita Cinco de Mayo allows young ladies to be a part of a honorable date in Mexican History and in the Hispanic Community of the Rio Grande Valley.Gloria G. Canales trains the girls for weeks up to this final competition to be crowned as Senorita Cinco de Mayo. Masters of Ceremonies of the event will be Lety Valadez Garza with Channel 5-KRGV\, Marcos Valdez from Univision and PeeWee Salinas- Chosen as Top 50 Most Beautiful People by Latin People Magazine. Tickets available at the Harlingen Area Chamber of Commerce located at 311 East Tyler. 
LOCATION:Harlingen Municipal Auditorium\, 1204 Fair Park Blvd.
UID:e.1828.2501
SEQUENCE:3
DTSTAMP:20260422T061658Z
URL:https://business.harlingen.com/events/details/senorita-cinco-de-mayo-pageant-05-01-2010-2501
END:VEVENT

END:VCALENDAR
