BEGIN:VCALENDAR
VERSION:2.0
PRODID:-//ChamberMaster//Event Calendar 2.0//EN
METHOD:PUBLISH
X-PUBLISHED-TTL:P3D
REFRESH-INTERVAL:P3D
CALSCALE:GREGORIAN
BEGIN:VEVENT
DTSTART:20110429T180000Z
DTEND:20110429T180000Z
X-MICROSOFT-CDO-ALLDAYEVENT:FALSE
SUMMARY:Senoritas on the Bay Fishing Tournament (6th Annual)
DESCRIPTION:6th annual charity fishing tournament hosted by the Junior League of Harlingen. Early registration fee: $75/angler. AFTER APRIL 4TH: $100/angler\n\nRegistration/Captain's Meeting: Friday\, April 29th at Parrot Eyes\nFishing Tournament and Weigh In: Saturday\, April 30th at Parrot Eyes\n\nCome out and join us for a FUN event and support your local charities.
X-ALT-DESC;FMTTYPE=text/html:6th annual charity fishing tournament hosted by the Junior League of Harlingen. Early registration fee: $75/angler. AFTER APRIL 4TH: $100/angler\n\nRegistration/Captain's Meeting: Friday\, April 29th at Parrot Eyes\nFishing Tournament and Weigh In: Saturday\, April 30th at Parrot Eyes\n\nCome out and join us for a FUN event and support your local charities. 
LOCATION:Parrot Eyes - South Padre Island\, TX
UID:e.1828.3164
SEQUENCE:3
DTSTAMP:20260421T125118Z
URL:https://business.harlingen.com/events/details/senoritas-on-the-bay-fishing-tournament-6th-annual-04-29-2011-3164
END:VEVENT

END:VCALENDAR
