BEGIN:VCALENDAR
VERSION:2.0
PRODID:-//ChamberMaster//Event Calendar 2.0//EN
METHOD:PUBLISH
X-PUBLISHED-TTL:P3D
REFRESH-INTERVAL:P3D
CALSCALE:GREGORIAN
BEGIN:VEVENT
DTSTART:20110812T140000Z
DTEND:20110812T140000Z
X-MICROSOFT-CDO-ALLDAYEVENT:FALSE
SUMMARY:Sephora inside JCPenney Grand Opening & Ribbon Cutting
DESCRIPTION:Join us for the Grand Opening and Ribbon Cutting ceremony of Sephora inside JCPenney. The first 50 clients in line at the event will receive a free instant gift with a mystery value worth up to $100. Plus receive a sample-packed goody bag while supplies last.
X-ALT-DESC;FMTTYPE=text/html:Join us for the Grand Opening and Ribbon Cutting ceremony of Sephora inside JCPenney. The first 50 clients in line at the event will receive a free instant gift with a mystery value worth up to $100. Plus receive a sample-packed goody bag while supplies last.    \n
LOCATION:Valle Vista Mall - JCPenney mall entrance
UID:e.1828.3131
SEQUENCE:3
DTSTAMP:20260421T052828Z
URL:https://business.harlingen.com/events/details/sephora-inside-jcpenney-grand-opening-ribbon-cutting-08-12-2011-3131
END:VEVENT

END:VCALENDAR
