BEGIN:VCALENDAR
VERSION:2.0
PRODID:-//ChamberMaster//Event Calendar 2.0//EN
METHOD:PUBLISH
X-PUBLISHED-TTL:P3D
REFRESH-INTERVAL:P3D
CALSCALE:GREGORIAN
BEGIN:VEVENT
DTSTART:20091022T233000Z
DTEND:20091023T003000Z
X-MICROSOFT-CDO-ALLDAYEVENT:FALSE
SUMMARY:Shades of History Tour- Old City Cemetery
DESCRIPTION:Take a tour of the Old City Cemetery Center and discover the delectable and sometimes spooky history of our town with Brownsville Heritage Officer Joe Gavito.  Refreshments will be available.\n\nThe tour is free for BHA members and $10 for non-members. Registration is required and spaces are limited\, so call today!
X-ALT-DESC;FMTTYPE=text/html:Take a tour of the Old City Cemetery Center and discover the delectable and sometimes spooky history of our town with Brownsville Heritage Officer Joe Gavito.  Refreshments will be available.\n\nThe tour is free for BHA members and $10 for non-members. Registration is required and spaces are limited\, so call today!
LOCATION:Take US 77/83 to the 6th St exit. The Old City Cemetery Center is half way down on the left hand side. Parking is available on Monroe and in the lot at the corner of 6th and Madison.
UID:e.1828.2113
SEQUENCE:3
DTSTAMP:20260422T113344Z
URL:https://business.harlingen.com/events/details/shades-of-history-tour-old-city-cemetery-10-22-2009-2113
END:VEVENT

END:VCALENDAR
