BEGIN:VCALENDAR
VERSION:2.0
PRODID:-//ChamberMaster//Event Calendar 2.0//EN
METHOD:PUBLISH
X-PUBLISHED-TTL:P3D
REFRESH-INTERVAL:P3D
CALSCALE:GREGORIAN
BEGIN:VEVENT
DTSTART:20091008T233000Z
DTEND:20091009T003000Z
X-MICROSOFT-CDO-ALLDAYEVENT:FALSE
SUMMARY:Shades of History Walking Tour- Downtown Brownsville
DESCRIPTION:The Brownsville Historical Association invites you to take a tour of downtown Brownsville and learn all about the delectable and sometimes spooky history of our town!  Brownsville Heritage Officer Joe Gavito  will be guiding the tours and refreshments will be available.\n\nThe tours are free for BHA members and $10 for non-members.  Registration is required and spots are limited\, so call today!
X-ALT-DESC;FMTTYPE=text/html:The Brownsville Historical Association invites you to take a tour of downtown Brownsville and learn all about the delectable and sometimes spooky history of our town!  Brownsville Heritage Officer Joe Gavito  will be guiding the tours and refreshments will be available.\n\nThe tours are free for BHA members and $10 for non-members.  Registration is required and spots are limited\, so call today!
LOCATION:Take US 77/83 to International Blvd. Turn right onto Washington St. (one way) and the Museum will be on the right hand side. Parking is available nearby.
UID:e.1828.2103
SEQUENCE:3
DTSTAMP:20260422T112509Z
URL:https://business.harlingen.com/events/details/shades-of-history-walking-tour-downtown-brownsville-10-08-2009-2103
END:VEVENT

END:VCALENDAR
