BEGIN:VCALENDAR
VERSION:2.0
PRODID:-//ChamberMaster//Event Calendar 2.0//EN
METHOD:PUBLISH
X-PUBLISHED-TTL:P3D
REFRESH-INTERVAL:P3D
CALSCALE:GREGORIAN
BEGIN:VEVENT
DTSTART:20091015T233000Z
DTEND:20091016T003000Z
X-MICROSOFT-CDO-ALLDAYEVENT:FALSE
SUMMARY:Shades of History Walking Tour- Fort Brown
DESCRIPTION:The Brownsville Historical Association invites you to take a tour of Fort Brown and learn all about the delectable and sometimes spooky history of our town!\n\nThe tours are free for BHA members and $10 for non-members.  Registration is required and spots are limited\, so call today!
X-ALT-DESC;FMTTYPE=text/html:The Brownsville Historical Association invites you to take a tour of Fort Brown and learn all about the delectable and sometimes spooky history of our town!\n\nThe tours are free for BHA members and $10 for non-members.  Registration is required and spots are limited\, so call today!
LOCATION:Take US 77/83 to International Blvd. Turn right onto Washington St. (one way) and the Museum will be on the right hand side. Parking is available nearby.
UID:e.1828.2104
SEQUENCE:3
DTSTAMP:20260422T112356Z
URL:https://business.harlingen.com/events/details/shades-of-history-walking-tour-fort-brown-10-15-2009-2104
END:VEVENT

END:VCALENDAR
