BEGIN:VCALENDAR
VERSION:2.0
PRODID:-//ChamberMaster//Event Calendar 2.0//EN
METHOD:PUBLISH
X-PUBLISHED-TTL:P3D
REFRESH-INTERVAL:P3D
CALSCALE:GREGORIAN
BEGIN:VEVENT
DTSTART:20100122T200000Z
DTEND:20100122T200000Z
X-MICROSOFT-CDO-ALLDAYEVENT:FALSE
SUMMARY:Shades of Winter History Tours: Downtown Brownsville
DESCRIPTION:The Brownsville Historical Association invites the community to join UTB/TSC history professor Jim Mills as we discover the rich and intriguing history that downtown Brownsville has to offer. Free for BHA members\, $10 for non-members. Refreshments will be served. For more information\, or how to become a BHA member\, please call 956-541-5560.
X-ALT-DESC;FMTTYPE=text/html:The Brownsville Historical Association invites the community to join UTB/TSC history professor Jim Mills as we discover the rich and intriguing history that downtown Brownsville has to offer. Free for BHA members\, $10 for non-members. Refreshments will be served. For more information\, or how to become a BHA member\, please call 956-541-5560.
LOCATION:Brownsville Heritage Complex
UID:e.1828.2328
SEQUENCE:3
DTSTAMP:20260422T112513Z
URL:https://business.harlingen.com/events/details/shades-of-winter-history-tours-downtown-brownsville-01-22-2010-2328
END:VEVENT

END:VCALENDAR
