BEGIN:VCALENDAR
VERSION:2.0
PRODID:-//ChamberMaster//Event Calendar 2.0//EN
METHOD:PUBLISH
X-PUBLISHED-TTL:P3D
REFRESH-INTERVAL:P3D
CALSCALE:GREGORIAN
BEGIN:VEVENT
DTSTART:20100206T160000Z
DTEND:20100206T160000Z
X-MICROSOFT-CDO-ALLDAYEVENT:FALSE
SUMMARY:Shades of Winter History Tours: Palm Boulevard
DESCRIPTION:The Brownsville Historical Association invites the community to join BHA Programs Coordinator Fernando Zamora as we discover the rich sights and history of beautiful Palm Boulevard. For PRE-REGISTERED and PRE-PAID ONLY. Free for BHA members\, $10 for non-members. Tour will meet at the BISD museum at 708 Palm Blvd and park in front of Sams Stadium. To sign up for the tour\, or to become a BHA member\, please call 956-541-5560.
X-ALT-DESC;FMTTYPE=text/html:The Brownsville Historical Association invites the community to join BHA Programs Coordinator Fernando Zamora as we discover the rich sights and history of beautiful Palm Boulevard. For PRE-REGISTERED and PRE-PAID ONLY. Free for BHA members\, $10 for non-members. Tour will meet at the BISD museum at 708 Palm Blvd and park in front of Sams Stadium. To sign up for the tour\, or to become a BHA member\, please call 956-541-5560.
LOCATION:BISD Museum
UID:e.1828.2338
SEQUENCE:3
DTSTAMP:20260422T095223Z
URL:https://business.harlingen.com/events/details/shades-of-winter-history-tours-palm-boulevard-02-06-2010-2338
END:VEVENT

END:VCALENDAR
