BEGIN:VCALENDAR
VERSION:2.0
PRODID:-//ChamberMaster//Event Calendar 2.0//EN
METHOD:PUBLISH
X-PUBLISHED-TTL:P3D
REFRESH-INTERVAL:P3D
CALSCALE:GREGORIAN
BEGIN:VEVENT
DTSTART:20100109T160000Z
DTEND:20100109T160000Z
X-MICROSOFT-CDO-ALLDAYEVENT:FALSE
SUMMARY:Shades of Winter History Tours: St. Charles District
DESCRIPTION:The Brownsville Historical Association invites the community to join UTB/TSC history professor Anthony Knopp as we discover the sights\, sounds\, and the rich history of Brownsville's St. Charles District. Refreshments will be served. Free for BHA members\, $10 for non-members.
X-ALT-DESC;FMTTYPE=text/html:The Brownsville Historical Association invites the community to join UTB/TSC history professor Anthony Knopp as we discover the sights\, sounds\, and the rich history of Brownsville's St. Charles District. Refreshments will be served. Free for BHA members\, $10 for non-members. 
LOCATION:Old City Cemetery Center (The Corner of 6th and Monroe)
UID:e.1828.2305
SEQUENCE:3
DTSTAMP:20260422T112350Z
URL:https://business.harlingen.com/events/details/shades-of-winter-history-tours-st-charles-district-01-09-2010-2305
END:VEVENT

END:VCALENDAR
