BEGIN:VCALENDAR
VERSION:2.0
PRODID:-//ChamberMaster//Event Calendar 2.0//EN
METHOD:PUBLISH
X-PUBLISHED-TTL:P3D
REFRESH-INTERVAL:P3D
CALSCALE:GREGORIAN
BEGIN:VEVENT
DTSTART:20100130T160000Z
DTEND:20100130T160000Z
X-MICROSOFT-CDO-ALLDAYEVENT:FALSE
SUMMARY:Shades of Winter History Tours: St. Charles District
DESCRIPTION:The Brownsville Historical Association invites the community to join UTB/TSC history professor Anthony Knopp as we discover the rich sights and history that the St. Charles District has to offer. Refreshments will be served. Free for BHA members\, $10 for non-members. For more information\, or to become a BHA member\, please call 956-541-5560 or 956-541-1167.
X-ALT-DESC;FMTTYPE=text/html:The Brownsville Historical Association invites the community to join UTB/TSC history professor Anthony Knopp as we discover the rich sights and history that the St. Charles District has to offer. Refreshments will be served. Free for BHA members\, $10 for non-members. For more information\, or to become a BHA member\, please call 956-541-5560 or 956-541-1167.
LOCATION:Old City Cemetery Center
UID:e.1828.2337
SEQUENCE:3
DTSTAMP:20260422T112315Z
URL:https://business.harlingen.com/events/details/shades-of-winter-history-tours-st-charles-district-01-30-2010-2337
END:VEVENT

END:VCALENDAR
