BEGIN:VCALENDAR
VERSION:2.0
PRODID:-//ChamberMaster//Event Calendar 2.0//EN
METHOD:PUBLISH
X-PUBLISHED-TTL:P3D
REFRESH-INTERVAL:P3D
CALSCALE:GREGORIAN
BEGIN:VEVENT
DTSTART:20120127T160000Z
DTEND:20120127T220000Z
X-MICROSOFT-CDO-ALLDAYEVENT:FALSE
SUMMARY:SHOP HOP Harlingen & San Benito
DESCRIPTION:SHOP! GIVE! WIN PRIZES! 16 Shops join for shopping event.  Alma's Treasures\, Antique Emporium\, Cossey Creations\, D'Arte Centre\, Hand of Man\, Heartfelt Gifts & Cafe\, Healthy Lifestyle\, Judy's Stitchery\, Lo-Ree's Dress Shop\, Quelle Boutique\, Simply Elegant\, Sisters Got Your Purse\, Taubert's Farm & Ranch\, The Vintage Store\, Jackson Square Event Center. Have Map-Passport stamped & qualify for prizes. To benefit Loaves & Fishes  of the Rio Grande Valley. For more information\, contact: 956-421-2654 Facebook: txshop hop
X-ALT-DESC;FMTTYPE=text/html:SHOP! GIVE! WIN PRIZES! 16 Shops join for shopping event.  Alma's Treasures\, Antique Emporium\, Cossey Creations\, D'Arte Centre\, Hand of Man\, Heartfelt Gifts & Cafe\, Healthy Lifestyle\, Judy's Stitchery\, Lo-Ree's Dress Shop\, Quelle Boutique\, Simply Elegant\, Sisters Got Your Purse\, Taubert's Farm & Ranch\, The Vintage Store\, Jackson Square Event Center. Have Map-Passport stamped & qualify for prizes. To benefit Loaves & Fishes  of the Rio Grande Valley. For more information\, contact: 956-421-2654 Facebook: txshop hop
LOCATION:Jackson Street\, Harlingen & San Benito
UID:e.1828.3380
SEQUENCE:3
DTSTAMP:20260420T225531Z
URL:https://business.harlingen.com/events/details/shop-hop-harlingen-san-benito-01-27-2012-3380
END:VEVENT

END:VCALENDAR
