BEGIN:VCALENDAR
VERSION:2.0
PRODID:-//ChamberMaster//Event Calendar 2.0//EN
METHOD:PUBLISH
X-PUBLISHED-TTL:P3D
REFRESH-INTERVAL:P3D
CALSCALE:GREGORIAN
BEGIN:VEVENT
DTSTART:20120216T233000Z
DTEND:20120217T013000Z
X-MICROSOFT-CDO-ALLDAYEVENT:FALSE
SUMMARY:Shrimp Fest Rotary Club
DESCRIPTION:Tickets $20.00 per person\, tickets available at the door. Live Auction\, Silent Auction and Door Prizes through out the evening.
X-ALT-DESC;FMTTYPE=text/html:Tickets $20.00 per person\, tickets available at the door. Live Auction\, Silent Auction and Door Prizes through out the evening. 
LOCATION:
UID:e.1828.3427
SEQUENCE:3
DTSTAMP:20260420T211812Z
URL:https://business.harlingen.com/events/details/shrimp-fest-rotary-club-02-16-2012-3427
END:VEVENT

END:VCALENDAR
