BEGIN:VCALENDAR
VERSION:2.0
PRODID:-//ChamberMaster//Event Calendar 2.0//EN
METHOD:PUBLISH
X-PUBLISHED-TTL:P3D
REFRESH-INTERVAL:P3D
CALSCALE:GREGORIAN
BEGIN:VEVENT
DTSTART;VALUE=DATE:20110415
DTEND;VALUE=DATE:20110418
TRANSP:TRANSPARENT
X-MICROSOFT-CDO-ALLDAYEVENT:TRUE
SUMMARY:Side By Side By Sondheim
DESCRIPTION:April 1\, 2\, 3 Friday & Saturday 7:30 pm\, Sunday 2:30 pm\, Adults $15.00\, Students $10.00. For more information call 956-412-7529 or hpatonline.net & Facebook.
X-ALT-DESC;FMTTYPE=text/html:April 1\, 2\, 3 Friday & Saturday 7:30 pm\, Sunday 2:30 pm\, Adults $15.00\, Students $10.00. For more information call 956-412-7529 or hpatonline.net & Facebook.
LOCATION:
UID:e.1828.3004
SEQUENCE:3
DTSTAMP:20260421T110933Z
URL:https://business.harlingen.com/events/details/side-by-side-by-sondheim-04-15-2011-3004
END:VEVENT

END:VCALENDAR
