BEGIN:VCALENDAR
VERSION:2.0
PRODID:-//ChamberMaster//Event Calendar 2.0//EN
METHOD:PUBLISH
X-PUBLISHED-TTL:P3D
REFRESH-INTERVAL:P3D
CALSCALE:GREGORIAN
BEGIN:VEVENT
DTSTART;VALUE=DATE:20111031
DTEND;VALUE=DATE:20111101
TRANSP:TRANSPARENT
X-MICROSOFT-CDO-ALLDAYEVENT:TRUE
SUMMARY:"Sight Night" Jeepers Creepers we want your old Peepers!
DESCRIPTION:Jeepers Creepers we want your old Peepers! Monday\, October 31 is "Sight Night" For the month of October the Lions Club of Harlingen is spreading awareness on their Eyeglass Recycling Program and collecting your unwanted eyeglasses! Take a moment to gather up your unwanted eyeglasses & sunglasses and donate them to the Lions Club of Harlingen. These glasses will be sent off to be processed and then given to those in need. Join the Lions and help give the gift of sight!  Any questions please contact: Lion President Mia de la Garza Fields at miadlg01-lions@yahoo.com.  Thank you for your support and community spirit!!!
X-ALT-DESC;FMTTYPE=text/html:Jeepers Creepers we want your old Peepers! Monday\, October 31 is "Sight Night" For the month of October the Lions Club of Harlingen is spreading awareness on their Eyeglass Recycling Program and collecting your unwanted eyeglasses! Take a moment to gather up your unwanted eyeglasses & sunglasses and donate them to the Lions Club of Harlingen. These glasses will be sent off to be processed and then given to those in need. Join the Lions and help give the gift of sight!  Any questions please contact: Lion President Mia de la Garza Fields at miadlg01-lions@yahoo.com.  Thank you for your support and community spirit!!!
LOCATION:
UID:e.1828.3212
SEQUENCE:3
DTSTAMP:20260421T035646Z
URL:https://business.harlingen.com/events/details/sight-night-jeepers-creepers-we-want-your-old-peepers-10-31-2011-3212
END:VEVENT

END:VCALENDAR
