BEGIN:VCALENDAR
VERSION:2.0
PRODID:-//ChamberMaster//Event Calendar 2.0//EN
METHOD:PUBLISH
X-PUBLISHED-TTL:P3D
REFRESH-INTERVAL:P3D
CALSCALE:GREGORIAN
BEGIN:VEVENT
DTSTART:20101103T000000Z
DTEND:20101103T000000Z
X-MICROSOFT-CDO-ALLDAYEVENT:FALSE
SUMMARY:Silvan Zingy- BOOGIE WOOGIE & BLUES PIANO MAN
DESCRIPTION:Silvan Zingg - BOOGIE WOOGIE & BLUES PIANO MAN\nPerforming 'In the Round' Golden Palms in The Texas Room.  Tickets are $20 and may be purchased at Golden Palms. Includes two drink tickets and performance at 7:30pm.  For questions\, please contact Golden Palms\, 430-3100.
X-ALT-DESC;FMTTYPE=text/html:Silvan Zingg - BOOGIE WOOGIE & BLUES PIANO MAN\nPerforming 'In the Round' Golden Palms in The Texas Room.  Tickets are $20 and may be purchased at Golden Palms. Includes two drink tickets and performance at 7:30pm.  For questions\, please contact Golden Palms\, 430-3100.\n
LOCATION:
UID:e.1828.2824
SEQUENCE:3
DTSTAMP:20260421T203503Z
URL:https://business.harlingen.com/events/details/silvan-zingy-boogie-woogie-blues-piano-man-11-02-2010-2824
END:VEVENT

END:VCALENDAR
