BEGIN:VCALENDAR
VERSION:2.0
PRODID:-//ChamberMaster//Event Calendar 2.0//EN
METHOD:PUBLISH
X-PUBLISHED-TTL:P3D
REFRESH-INTERVAL:P3D
CALSCALE:GREGORIAN
BEGIN:VEVENT
DTSTART:20101107T200000Z
DTEND:20101107T200000Z
X-MICROSOFT-CDO-ALLDAYEVENT:FALSE
SUMMARY:Site Dedication of the Future Veterans Memorial
DESCRIPTION:For more information about the Veterans Memorial or the sale of pavers\, email artcohan1@earthlink.net or call (956) 202-3054 or write to Vet4rans Memorial Project Committee\, PO Box 2862\, Harlingen\, TX  78551.
X-ALT-DESC;FMTTYPE=text/html:For more information about the Veterans Memorial or the sale of pavers\, email artcohan1@earthlink.net or call (956) 202-3054 or write to Vet4rans Memorial Project Committee\, PO Box 2862\, Harlingen\, TX  78551.\n \n
LOCATION:
UID:e.1828.2830
SEQUENCE:3
DTSTAMP:20260421T203753Z
URL:https://business.harlingen.com/events/details/site-dedication-of-the-future-veterans-memorial-11-07-2010-2830
END:VEVENT

END:VCALENDAR
