BEGIN:VCALENDAR
VERSION:2.0
PRODID:-//ChamberMaster//Event Calendar 2.0//EN
METHOD:PUBLISH
X-PUBLISHED-TTL:P3D
REFRESH-INTERVAL:P3D
CALSCALE:GREGORIAN
BEGIN:VEVENT
DTSTART:20101205T000000Z
DTEND:20101205T000000Z
X-MICROSOFT-CDO-ALLDAYEVENT:FALSE
SUMMARY:Sixth Annual Noche De Gala Honoring\, Frank Boggus
DESCRIPTION:We Proudly Announce Frank Boggus as honoree at the Sixth Annual Noche De Gala. \nSaturday\, December 4\, 2010 \n6:00PM- Dinner @ 7:00PM\n\nSponsorship opportunities and individual tickets are available.  Funds will be matched by the Long Foundation.  For more information\, contact TSTC AT 956-364-4500 for e-mail Angie Gonzales at angie.gonzalez@harlingen.tstc.edu
X-ALT-DESC;FMTTYPE=text/html:We Proudly Announce Frank Boggus as honoree at the Sixth Annual Noche De Gala. \nSaturday\, December 4\, 2010 \n6:00PM- Dinner @ 7:00PM\n\nSponsorship opportunities and individual tickets are available.  Funds will be matched by the Long Foundation.  For more information\, contact TSTC AT 956-364-4500 for e-mail Angie Gonzales at angie.gonzalez@harlingen.tstc.edu
LOCATION:
UID:e.1828.2836
SEQUENCE:3
DTSTAMP:20260421T171727Z
URL:https://business.harlingen.com/events/details/sixth-annual-noche-de-gala-honoring-frank-boggus-12-04-2010-2836
END:VEVENT

END:VCALENDAR
