BEGIN:VCALENDAR
VERSION:2.0
PRODID:-//ChamberMaster//Event Calendar 2.0//EN
METHOD:PUBLISH
X-PUBLISHED-TTL:P3D
REFRESH-INTERVAL:P3D
CALSCALE:GREGORIAN
BEGIN:VEVENT
DTSTART:20121027T200000Z
DTEND:20121027T230000Z
X-MICROSOFT-CDO-ALLDAYEVENT:FALSE
SUMMARY:Skeet Shoot & Barbeque Benefiting the Endowment Fund of Loaves & Fishes
DESCRIPTION:Skeet Shoot & Barbeque Benefiting the Endowment Fund of Loaves & Fishes Please join us!  $100 per couple. For ticket information call (956) 423-1014.
X-ALT-DESC;FMTTYPE=text/html:Skeet Shoot & Barbeque Benefiting the Endowment Fund of Loaves & Fishes Please join us!  $100 per couple. For ticket information call (956) 423-1014. \n
LOCATION:La Tenaza Ranch 6 miles east of Rio Hondo on FM 106 across from the water tower.
UID:e.1828.4009
SEQUENCE:3
DTSTAMP:20260420T103050Z
URL:https://business.harlingen.com/events/details/skeet-shoot-barbeque-benefiting-the-endowment-fund-of-loaves-fishes-10-27-2012-4009
END:VEVENT

END:VCALENDAR
