BEGIN:VCALENDAR
VERSION:2.0
PRODID:-//ChamberMaster//Event Calendar 2.0//EN
METHOD:PUBLISH
X-PUBLISHED-TTL:P3D
REFRESH-INTERVAL:P3D
CALSCALE:GREGORIAN
BEGIN:VEVENT
DTSTART:20100422T230000Z
DTEND:20100423T010000Z
X-MICROSOFT-CDO-ALLDAYEVENT:FALSE
SUMMARY:Small Business Awards 2010
DESCRIPTION:On April 22\, the Small Business Awards dinner will be held at The University of Texas-Pan American Annex building\, 2412 South Closner\, Edinburg\, Texas to recognize the 2010 award recipients.  \n\nThe banquet will celebrate National Small Business Week and will honor the importance of small business ownership and recognize model entrepreneurs whose enterprises contribute to the commercial prosperity of the Rio Grande Valley.\n\nThe banquet is hosted by The University of Texas-Pan American Small Business Development Center (SBDC)\, a component of the Business Development   Javier Martinez\, III\, SBDC Counselor of the Year\; Merida Escobar\, Minority Small Business Champion\; Maria Nuez-Hall\, Home-Based Business Champion\; Blanca E. Perez-Moreno\, Women in Business Champion\; Alma Ortega-Johnson\, Financial Services Champion\; Leon and Velma Sue De Leon\, Jeffrey Butland Family-Owned Business\; and Jamie A. Bowell\, SBA Young Entrepreneur of the Year.\n\nFor additional information on Small Business Week 2010 and/or attendance fee\, please call Bianca Hammond at (956) 292-7542.  For sponsorship information\, please call Esperanza Perez Delgado at (956) 292-7537.
X-ALT-DESC;FMTTYPE=text/html:On April 22\, the Small Business Awards dinner will be held at The University of Texas-Pan American Annex building\, 2412 South Closner\, Edinburg\, Texas to recognize the 2010 award recipients.  \n\nThe banquet will celebrate National Small Business Week and will honor the importance of small business ownership and recognize model entrepreneurs whose enterprises contribute to the commercial prosperity of the Rio Grande Valley.\n\nThe banquet is hosted by The University of Texas-Pan American Small Business Development Center (SBDC)\, a component of the Business Development & Innovation Group\, and the U.S. Small Business Administration (SBA).\n\nThe Small Business Person of the Year award will be given to Baldomero Trevino\, owner of Mr. B Motor Company.  Mr. Trevino has been an exemplary business leader serving the local community for over 32 years.  He started his wholesale business with $500\, selling little or no sales during his first years.  Today\, Mr. B Motors has grown to be one of the highest producing used-car dealership in the area.  \n\nOther honorees:  Joaquin Spamer\, Small Business Exporter\; Javier Martinez\, III\, SBDC Counselor of the Year\; Merida Escobar\, Minority Small Business Champion\; Maria Nuez-Hall\, Home-Based Business Champion\; Blanca E. Perez-Moreno\, Women in Business Champion\; Alma Ortega-Johnson\, Financial Services Champion\; Leon and Velma Sue De Leon\, Jeffrey Butland Family-Owned Business\; and Jamie A. Bowell\, SBA Young Entrepreneur of the Year.\n\nFor additional information on Small Business Week 2010 and/or attendance fee\, please call Bianca Hammond at (956) 292-7542.  For sponsorship information\, please call Esperanza Perez Delgado at (956) 292-7537.\n\n
LOCATION:Event to be held at UTPA Annex Building found on south business 281 and across KFC Restuarant.
UID:e.1828.2467
SEQUENCE:3
DTSTAMP:20260422T080727Z
URL:https://business.harlingen.com/events/details/small-business-awards-2010-04-22-2010-2467
END:VEVENT

END:VCALENDAR
